BEGIN:VCALENDAR
VERSION:2.0
PRODID:-//The Ridges Sanctuary - ECPv6.15.20//NONSGML v1.0//EN
CALSCALE:GREGORIAN
METHOD:PUBLISH
X-WR-CALNAME:The Ridges Sanctuary
X-ORIGINAL-URL:https://ridgessanctuary.org
X-WR-CALDESC:Events for The Ridges Sanctuary
REFRESH-INTERVAL;VALUE=DURATION:PT1H
X-Robots-Tag:noindex
X-PUBLISHED-TTL:PT1H
BEGIN:VTIMEZONE
TZID:America/Chicago
BEGIN:DAYLIGHT
TZOFFSETFROM:-0600
TZOFFSETTO:-0500
TZNAME:CDT
DTSTART:20230312T080000
END:DAYLIGHT
BEGIN:STANDARD
TZOFFSETFROM:-0500
TZOFFSETTO:-0600
TZNAME:CST
DTSTART:20231105T070000
END:STANDARD
BEGIN:DAYLIGHT
TZOFFSETFROM:-0600
TZOFFSETTO:-0500
TZNAME:CDT
DTSTART:20240310T080000
END:DAYLIGHT
BEGIN:STANDARD
TZOFFSETFROM:-0500
TZOFFSETTO:-0600
TZNAME:CST
DTSTART:20241103T070000
END:STANDARD
BEGIN:DAYLIGHT
TZOFFSETFROM:-0600
TZOFFSETTO:-0500
TZNAME:CDT
DTSTART:20250309T080000
END:DAYLIGHT
BEGIN:STANDARD
TZOFFSETFROM:-0500
TZOFFSETTO:-0600
TZNAME:CST
DTSTART:20251102T070000
END:STANDARD
BEGIN:DAYLIGHT
TZOFFSETFROM:-0600
TZOFFSETTO:-0500
TZNAME:CDT
DTSTART:20260308T080000
END:DAYLIGHT
BEGIN:STANDARD
TZOFFSETFROM:-0500
TZOFFSETTO:-0600
TZNAME:CST
DTSTART:20261101T070000
END:STANDARD
BEGIN:DAYLIGHT
TZOFFSETFROM:-0600
TZOFFSETTO:-0500
TZNAME:CDT
DTSTART:20270314T080000
END:DAYLIGHT
BEGIN:STANDARD
TZOFFSETFROM:-0500
TZOFFSETTO:-0600
TZNAME:CST
DTSTART:20271107T070000
END:STANDARD
END:VTIMEZONE
BEGIN:VEVENT
DTSTART;TZID=America/Chicago:20260307T123000
DTEND;TZID=America/Chicago:20260307T133000
DTSTAMP:20260421T040812
CREATED:20240904T190900Z
LAST-MODIFIED:20260226T213223Z
UID:10001109-1772886600-1772890200@ridgessanctuary.org
SUMMARY:Eastern Screech-Owl Nest Box Workshop
DESCRIPTION:Eastern Screech-Owl Nest Box Workshop\n\n\n\n\n*Owl-O-Rama Event*\n\n\n\n\nHead over to The Ridges Workshop to build Eastern Screech-Owl nest boxes to take home and hang in your backyard. A Ridges staff member will provide you with all the materials you need to assemble your nest box.  \n\n\n\nPlease note: The nest box building portion of the workshop will include hammering and the use of power tools in an indoor space. \n\n\n\nFee: Public $50 | Members receive 20% discount. Pre-registration is required. \n\n\n\nAccessibility Considerations: Power tools and hammers used in an indoor space\, loud\, daytime program.  \n\n\n\n\nAll Ridges programs are currently offline. Please call The Ridges at 920-839-2802 to register for programs. Programs require pre-registration.
URL:https://ridgessanctuary.org/event/nest-box-workshop/
LOCATION:Ridges Workshop\, 8288 County Q\, Baileys Harbor\, WI\, 54202\, United States
CATEGORIES:Adult,General,Programs,Special Events
ATTACH;FMTTYPE=image/jpeg:https://ridgessanctuary.org/wp-content/uploads/2024/09/DSC00772-scaled.jpg
ORGANIZER;CN="The Ridges Sanctuary":MAILTO:info@ridgessanctuary.org
END:VEVENT
BEGIN:VEVENT
DTSTART;TZID=America/Chicago:20251206T140000
DTEND;TZID=America/Chicago:20251206T153000
DTSTAMP:20260421T040812
CREATED:20251104T220655Z
LAST-MODIFIED:20251104T220656Z
UID:10003785-1765029600-1765035000@ridgessanctuary.org
SUMMARY:Wreath Making Workshop
DESCRIPTION:Wreath Making Workshop\n\n\n\nCome to The Ridges Sanctuary to create your perfect holiday wreath! We will provide the frames\, wire\, greens and decorative goodies for you to create your wreath or swag.   \n\n\n\nWreath Making Workshops will be offered Friday December 5 and Saturday December 6. There will be six sessions total\, with a session at 10:00 am\, 12:00 pm\, and 2:00 pm on Friday and Saturday. Each session will allow for 20 people at a time.  \n\n\n\nThere is a $30 fee\, which includes materials for 1 wreath. Additional wreaths and swags are $15 each. If you would like to recycle your frame from last year\, the fee is $20. Pre-Registration is required for the 6 workshops so we can ensure we have enough materials for everyone.  \n\n\n\nPlease dress in layers\, we’re working in a garage! \n\n\n\nRegistration will open on October 15\, 2025.  \n\n\n\n\nRegister Here\n\n\n\n\nAccessibility Considerations: Gravel parking lot\, workshop\, daytime program\, no seating available\, no restrooms available\, port-a-potty on site. 
URL:https://ridgessanctuary.org/event/wreath-making-workshop-8/
LOCATION:Ridges Workshop\, 8288 County Q\, Baileys Harbor\, WI\, 54202\, United States
CATEGORIES:Adult,Family Friendly,Programs
ATTACH;FMTTYPE=image/jpeg:https://ridgessanctuary.org/wp-content/uploads/2024/09/SH3-scaled.jpg
ORGANIZER;CN="The Ridges Sanctuary":MAILTO:info@ridgessanctuary.org
END:VEVENT
BEGIN:VEVENT
DTSTART;TZID=America/Chicago:20251206T120000
DTEND;TZID=America/Chicago:20251206T133000
DTSTAMP:20260421T040812
CREATED:20251104T220600Z
LAST-MODIFIED:20251104T220602Z
UID:10003800-1765022400-1765027800@ridgessanctuary.org
SUMMARY:Wreath Making Workshop
DESCRIPTION:Wreath Making Workshop\n\n\n\nCome to The Ridges Sanctuary to create your perfect holiday wreath! We will provide the frames\, wire\, greens and decorative goodies for you to create your wreath or swag.   \n\n\n\nWreath Making Workshops will be offered Friday December 5 and Saturday December 6. There will be six sessions total\, with a session at 10:00 am\, 12:00 pm\, and 2:00 pm on Friday and Saturday. Each session will allow for 20 people at a time.  \n\n\n\nThere is a $30 fee\, which includes materials for 1 wreath. Additional wreaths and swags are $15 each. If you would like to recycle your frame from last year\, the fee is $20. Pre-Registration is required for the 6 workshops so we can ensure we have enough materials for everyone.  \n\n\n\nPlease dress in layers\, we’re working in a garage! \n\n\n\nRegistration will open on October 15\, 2025.  \n\n\n\n\nRegister Here\n\n\n\n\nAccessibility Considerations: Gravel parking lot\, workshop\, daytime program\, no seating available\, no restrooms available\, port-a-potty on site. 
URL:https://ridgessanctuary.org/event/wreath-making-workshop-7/
LOCATION:Ridges Workshop\, 8288 County Q\, Baileys Harbor\, WI\, 54202\, United States
CATEGORIES:Adult,Family Friendly,Programs
ATTACH;FMTTYPE=image/jpeg:https://ridgessanctuary.org/wp-content/uploads/2024/09/SH3-scaled.jpg
ORGANIZER;CN="The Ridges Sanctuary":MAILTO:info@ridgessanctuary.org
END:VEVENT
BEGIN:VEVENT
DTSTART;TZID=America/Chicago:20251206T100000
DTEND;TZID=America/Chicago:20251206T113000
DTSTAMP:20260421T040812
CREATED:20251104T220503Z
LAST-MODIFIED:20251104T220505Z
UID:10003796-1765015200-1765020600@ridgessanctuary.org
SUMMARY:Wreath Making Workshop
DESCRIPTION:Wreath Making Workshop\n\n\n\nCome to The Ridges Sanctuary to create your perfect holiday wreath! We will provide the frames\, wire\, greens and decorative goodies for you to create your wreath or swag.   \n\n\n\nWreath Making Workshops will be offered Friday December 5 and Saturday December 6. There will be six sessions total\, with a session at 10:00 am\, 12:00 pm\, and 2:00 pm on Friday and Saturday. Each session will allow for 20 people at a time.  \n\n\n\nThere is a $30 fee\, which includes materials for 1 wreath. Additional wreaths and swags are $15 each. If you would like to recycle your frame from last year\, the fee is $20. Pre-Registration is required for the 6 workshops so we can ensure we have enough materials for everyone.  \n\n\n\nPlease dress in layers\, we’re working in a garage! \n\n\n\nRegistration will open on October 15\, 2025.  \n\n\n\n\nRegister Here\n\n\n\n\nAccessibility Considerations: Gravel parking lot\, workshop\, daytime program\, no seating available\, no restrooms available\, port-a-potty on site. 
URL:https://ridgessanctuary.org/event/wreath-making-workshop-6/
LOCATION:Ridges Workshop\, 8288 County Q\, Baileys Harbor\, WI\, 54202\, United States
CATEGORIES:Adult,Family Friendly,Programs
ATTACH;FMTTYPE=image/jpeg:https://ridgessanctuary.org/wp-content/uploads/2024/09/SH3-scaled.jpg
ORGANIZER;CN="The Ridges Sanctuary":MAILTO:info@ridgessanctuary.org
END:VEVENT
BEGIN:VEVENT
DTSTART;TZID=America/Chicago:20251205T140000
DTEND;TZID=America/Chicago:20251205T153000
DTSTAMP:20260421T040812
CREATED:20251104T220405Z
LAST-MODIFIED:20251104T220406Z
UID:10003784-1764943200-1764948600@ridgessanctuary.org
SUMMARY:Wreath Making Workshop
DESCRIPTION:Wreath Making Workshop\n\n\n\nCome to The Ridges Sanctuary to create your perfect holiday wreath! We will provide the frames\, wire\, greens and decorative goodies for you to create your wreath or swag.   \n\n\n\nWreath Making Workshops will be offered Friday December 5 and Saturday December 6. There will be six sessions total\, with a session at 10:00 am\, 12:00 pm\, and 2:00 pm on Friday and Saturday. Each session will allow for 20 people at a time.  \n\n\n\nThere is a $30 fee\, which includes materials for 1 wreath. Additional wreaths and swags are $15 each. If you would like to recycle your frame from last year\, the fee is $20. Pre-Registration is required for the 6 workshops so we can ensure we have enough materials for everyone.  \n\n\n\nPlease dress in layers\, we’re working in a garage! \n\n\n\nRegistration will open on October 15\, 2025.  \n\n\n\n\nRegister Here\n\n\n\n\nAccessibility Considerations: Gravel parking lot\, workshop\, daytime program\, no seating available\, no restrooms available\, port-a-potty on site. 
URL:https://ridgessanctuary.org/event/wreath-making-workshop-4/
LOCATION:Ridges Workshop\, 8288 County Q\, Baileys Harbor\, WI\, 54202\, United States
CATEGORIES:Adult,Family Friendly,Programs
ATTACH;FMTTYPE=image/jpeg:https://ridgessanctuary.org/wp-content/uploads/2024/09/SH3-scaled.jpg
ORGANIZER;CN="The Ridges Sanctuary":MAILTO:info@ridgessanctuary.org
END:VEVENT
BEGIN:VEVENT
DTSTART;TZID=America/Chicago:20251205T120000
DTEND;TZID=America/Chicago:20251205T133000
DTSTAMP:20260421T040812
CREATED:20251104T220310Z
LAST-MODIFIED:20251104T220312Z
UID:10003799-1764936000-1764941400@ridgessanctuary.org
SUMMARY:Wreath Making Workshop
DESCRIPTION:Wreath Making Workshop\n\n\n\nCome to The Ridges Sanctuary to create your perfect holiday wreath! We will provide the frames\, wire\, greens and decorative goodies for you to create your wreath or swag.   \n\n\n\nWreath Making Workshops will be offered Friday December 5 and Saturday December 6. There will be six sessions total\, with a session at 10:00 am\, 12:00 pm\, and 2:00 pm on Friday and Saturday. Each session will allow for 20 people at a time.  \n\n\n\nThere is a $30 fee\, which includes materials for 1 wreath. Additional wreaths and swags are $15 each. If you would like to recycle your frame from last year\, the fee is $20. Pre-Registration is required for the 6 workshops so we can ensure we have enough materials for everyone.  \n\n\n\nPlease dress in layers\, we’re working in a garage! \n\n\n\nRegistration will open on October 15\, 2025.  \n\n\n\n\nRegister Here\n\n\n\n\nAccessibility Considerations: Gravel parking lot\, workshop\, daytime program\, no seating available\, no restrooms available\, port-a-potty on site. 
URL:https://ridgessanctuary.org/event/wreath-making-workshop-3/
LOCATION:Ridges Workshop\, 8288 County Q\, Baileys Harbor\, WI\, 54202\, United States
CATEGORIES:Adult,Family Friendly,Programs
ATTACH;FMTTYPE=image/jpeg:https://ridgessanctuary.org/wp-content/uploads/2024/09/SH3-scaled.jpg
ORGANIZER;CN="The Ridges Sanctuary":MAILTO:info@ridgessanctuary.org
END:VEVENT
BEGIN:VEVENT
DTSTART;TZID=America/Chicago:20251205T100000
DTEND;TZID=America/Chicago:20251205T113000
DTSTAMP:20260421T040812
CREATED:20250922T155704Z
LAST-MODIFIED:20251014T213930Z
UID:10003795-1764928800-1764934200@ridgessanctuary.org
SUMMARY:Wreath Making Workshop
DESCRIPTION:Wreath Making Workshop\n\n\n\nCome to The Ridges Sanctuary to create your perfect holiday wreath! We will provide the frames\, wire\, greens and decorative goodies for you to create your wreath or swag.   \n\n\n\nWreath Making Workshops will be offered Friday December 5 and Saturday December 6. There will be six sessions total\, with a session at 10:00 am\, 12:00 pm\, and 2:00 pm on Friday and Saturday. Each session will allow for 20 people at a time.  \n\n\n\nThere is a $30 fee\, which includes materials for 1 wreath. Additional wreaths and swags are $15 each. If you would like to recycle your frame from last year\, the fee is $20. Pre-Registration is required for the 6 workshops so we can ensure we have enough materials for everyone.  \n\n\n\nPlease dress in layers\, we’re working in a garage! \n\n\n\nRegistration will open on October 15\, 2025.  \n\n\n\n\nRegister Here\n\n\n\n\nAccessibility Considerations: Gravel parking lot\, workshop\, daytime program\, no seating available\, no restrooms available\, port-a-potty on site. 
URL:https://ridgessanctuary.org/event/wreath-making-workshop/
LOCATION:Ridges Workshop\, 8288 County Q\, Baileys Harbor\, WI\, 54202\, United States
CATEGORIES:Adult,Family Friendly,Programs
ATTACH;FMTTYPE=image/jpeg:https://ridgessanctuary.org/wp-content/uploads/2024/09/SH3-scaled.jpg
ORGANIZER;CN="The Ridges Sanctuary":MAILTO:info@ridgessanctuary.org
END:VEVENT
BEGIN:VEVENT
DTSTART;TZID=America/Chicago:20241018T153000
DTEND;TZID=America/Chicago:20241018T163000
DTSTAMP:20260421T040812
CREATED:20240910T193644Z
LAST-MODIFIED:20241016T202448Z
UID:10001986-1729265400-1729269000@ridgessanctuary.org
SUMMARY:Bat House Building Workshop
DESCRIPTION:Bat House Building Workshop\n\n\n\nBuild your own bat house to hang on your property! The Bat House Building Workshop will start at 3:30pm at the Ridges Workshop. We’ll help you assemble your own bat house and give you instructions on hanging and maintenance so you can provide important shelter for native bat species! \n\n\n\nThe price for the Bat House Workshop is based off of the number of bat houses you would like to build. You will be prompted to enter the number of individuals building each box when registering. \n\n\n\nTo get to the Workshop\, drive north on Highway 57 from The Ridges Nature Center for 1/2 a mile. Turn right onto County Rd Q and turn into the first driveway on the right. Once in the driveway\, keep right to get to the Workshop and Cabins parking lot.  \n\n\n\n*This workshop will be in an indoor space with hammering and power tools.  \n\n\n\nFee: Public $45 | Member $40. Pre-registration is required.  \n\n\n\n\nRegister
URL:https://ridgessanctuary.org/event/bat-house-building-workshop/
LOCATION:Ridges Workshop\, 8288 County Q\, Baileys Harbor\, WI\, 54202\, United States
CATEGORIES:Adult,Programs
ATTACH;FMTTYPE=image/jpeg:https://ridgessanctuary.org/wp-content/uploads/2024/06/bat-house.jpg
ORGANIZER;CN="The Ridges Sanctuary":MAILTO:info@ridgessanctuary.org
END:VEVENT
END:VCALENDAR