BEGIN:VCALENDAR
VERSION:2.0
PRODID:-//The Ridges Sanctuary - ECPv6.15.20//NONSGML v1.0//EN
CALSCALE:GREGORIAN
METHOD:PUBLISH
X-ORIGINAL-URL:https://ridgessanctuary.org
X-WR-CALDESC:Events for The Ridges Sanctuary
REFRESH-INTERVAL;VALUE=DURATION:PT1H
X-Robots-Tag:noindex
X-PUBLISHED-TTL:PT1H
BEGIN:VTIMEZONE
TZID:America/Chicago
BEGIN:DAYLIGHT
TZOFFSETFROM:-0600
TZOFFSETTO:-0500
TZNAME:CDT
DTSTART:20250309T080000
END:DAYLIGHT
BEGIN:STANDARD
TZOFFSETFROM:-0500
TZOFFSETTO:-0600
TZNAME:CST
DTSTART:20251102T070000
END:STANDARD
BEGIN:DAYLIGHT
TZOFFSETFROM:-0600
TZOFFSETTO:-0500
TZNAME:CDT
DTSTART:20260308T080000
END:DAYLIGHT
BEGIN:STANDARD
TZOFFSETFROM:-0500
TZOFFSETTO:-0600
TZNAME:CST
DTSTART:20261101T070000
END:STANDARD
BEGIN:DAYLIGHT
TZOFFSETFROM:-0600
TZOFFSETTO:-0500
TZNAME:CDT
DTSTART:20270314T080000
END:DAYLIGHT
BEGIN:STANDARD
TZOFFSETFROM:-0500
TZOFFSETTO:-0600
TZNAME:CST
DTSTART:20271107T070000
END:STANDARD
END:VTIMEZONE
BEGIN:VEVENT
DTSTART;TZID=America/Chicago:20260423T090000
DTEND;TZID=America/Chicago:20260423T120000
DTSTAMP:20260421T072459
CREATED:20251215T195137Z
LAST-MODIFIED:20260318T205925Z
UID:10003887-1776934800-1776945600@ridgessanctuary.org
SUMMARY:Stewardship Workshop: Small Actions Add Up
DESCRIPTION:Stewardship Workshop: Small Actions Add Up\n\n\n\nLearn to become your own land steward through our kickoff Stewardship Workshop at The Ridges during Earth Week! Join Land Manager Sam Hoffman in the Sanctuary\, who will lead discussions on local ecological issues and demonstrate small steps that landowners can take to better manage and protect the health of their land. No matter your knowledge or skill level\, anyone can take actions that collectively add up to a big environmental impact. Participants will receive take home materials to help them practice stewardship on their properties. Suitable for ages 18 & up.  \n\n\n\nFee: $25 | Members receive 20% Discount   \n\n\n\nAccessibility Considerations: Outdoor program\, daytime program\, hiking on uneven terrain/rustic trails\, accessible parking available\, bathrooms available at Nature Center prior to program\, standing for long periods of time.   \n\n\n\nDistance: 1+ mile   \n\n\n\nRegistration Required \n\n\n\n\nRegister
URL:https://ridgessanctuary.org/event/stewardship-workshop-small-actions-add-up/
LOCATION:Cook-Albert Fuller Nature Center\, 8166 State Hwy 57\, Baileys Harbor\, WI\, 54202\, United States
CATEGORIES:Adult,Programs
ATTACH;FMTTYPE=image/png:https://ridgessanctuary.org/wp-content/uploads/2024/06/volunteer-quote.png
ORGANIZER;CN="The Ridges Sanctuary":MAILTO:info@ridgessanctuary.org
END:VEVENT
END:VCALENDAR